Workbook

Sheet slide.ptp.steps
A1: StepIndex | B1: FilePath | C1: LineNo | D1: WorkTime | E1: ToolId | F1: SpindleDirection | G1: Feedrate_mmdmin | H1: SpindleSpeed_rpm | I1: CL.X | J1: CL.Y | K1: CL.Z | L1: CL.A | M1: CL.B | N1: CL.C | O1: MC.X | P1: MC.Y | Q1: MC.Z | R1: MC.B(deg) | S1: MC.C(deg) | T1: RadialWidth | U1: AxialDepth | V1: Mrr_mm3ds | W1: DeltaEngagement | X1: IsTouched | Y1: AbsAvgForce | Z1: MaxAbsForce | AA1: MaxAbsForceSlope_NdDeg | AB1: MaxAxialTorqueToToolByToolTip_Nmm | AC1: AxialPower_w | AD1: MaxAbsTorqueByKeyFulcrum_Nmm | AE1: AvgForceToToolOnToolRunningCoordinate.X | AF1: AvgForceToToolOnToolRunningCoordinate.Y | AG1: AvgForceToToolOnToolRunningCoordinate.Z | AH1: AvgForceToWorkpieceOnWorkpieceCoordinate.X | AI1: AvgForceToWorkpieceOnWorkpieceCoordinate.Y | AJ1: AvgForceToWorkpieceOnWorkpieceCoordinate.Z | AK1: MaxTorqueToToolOnToolRunningCoordinateByKeyFulcrum_Nmm.X | AL1: MaxTorqueToToolOnToolRunningCoordinateByKeyFulcrum_Nmm.Y | AM1: MaxTorqueToToolOnToolRunningCoordinateByKeyFulcrum_Nmm.Z | AN1: heat_J | AO1: temperature_K | AP1: warning
A2: 2196 | B2: NC\slide.ptp | C2: 6 | D2: 135.58078 | E2: 1 | F2: STOP | G2: 20000 | H2: 0 | I2: -6.8088889 | J2: 60.028778 | K2: 66.44 | L2: 0 | M2: 0 | N2: 1 | O2: 30.591111 | P2: -37.371222 | Q2: 0 | R2: 0 | S2: 0 | T2: 0 | U2: 0 | V2: 0 | W2: 0 | X2: 0 | AN2: 0 | AO2: 300 | AP2: =IF(ABS(AM2)>800,1,0) -> 0
A3: 2197 | B3: NC\slide.ptp | C3: 6 | D3: 135.58377 | E3: 1 | F3: STOP | G3: 20000 | H3: 0 | I3: -5.8137778 | J3: 60.057556 | K3: 66.44 | L3: 0 | M3: 0 | N3: 1 | O3: 31.586222 | P3: -37.342444 | Q3: 0 | R3: 0 | S3: 0 | T3: 0 | U3: 0 | V3: 0 | W3: 0 | X3: 0 | AN3: =ABS(AC3)*(D3-D2)*para!B$8-(AO2-para!B$1)*para!B$5*0.001*para!B$2*(D3-D2) -> 0 | AO3: =AN3/(para!B$6*(0.001*para!B$7))+AO2 -> 300 | AP3: =IF(ABS(AM3)>800,1,0) -> 0
A4: 2198 | B4: NC\slide.ptp | C4: 6 | D4: 135.58676 | E4: 1 | F4: STOP | G4: 20000 | H4: 0 | I4: -4.8186667 | J4: 60.086333 | K4: 66.44 | L4: 0 | M4: 0 | N4: 1 | O4: 32.581333 | P4: -37.313667 | Q4: 0 | R4: 0 | S4: 0 | T4: 0 | U4: 0 | V4: 0 | W4: 0 | X4: 0 | AN4: =ABS(AC4)*(D4-D3)*para!B$8-(AO3-para!B$1)*para!B$5*0.001*para!B$2*(D4-D3) -> 0 | AO4: =AN4/(para!B$6*(0.001*para!B$7))+AO3 -> 300 | AP4: =IF(ABS(AM4)>800,1,0) -> 0
A5: 2199 | B5: NC\slide.ptp | C5: 6 | D5: 135.58974 | E5: 1 | F5: STOP | G5: 20000 | H5: 0 | I5: -3.8235556 | J5: 60.115111 | K5: 66.44 | L5: 0 | M5: 0 | N5: 1 | O5: 33.576444 | P5: -37.284889 | Q5: 0 | R5: 0 | S5: 0 | T5: 0 | U5: 0 | V5: 0 | W5: 0 | X5: 0 | AN5: =ABS(AC5)*(D5-D4)*para!B$8-(AO4-para!B$1)*para!B$5*0.001*para!B$2*(D5-D4) -> 0 | AO5: =AN5/(para!B$6*(0.001*para!B$7))+AO4 -> 300 | AP5: =IF(ABS(AM5)>800,1,0) -> 0
A6: 2200 | B6: NC\slide.ptp | C6: 6 | D6: 135.59273 | E6: 1 | F6: STOP | G6: 20000 | H6: 0 | I6: -2.8284444 | J6: 60.143889 | K6: 66.44 | L6: 0 | M6: 0 | N6: 1 | O6: 34.571556 | P6: -37.256111 | Q6: 0 | R6: 0 | S6: 0 | T6: 0 | U6: 0 | V6: 0 | W6: 0 | X6: 0 | AN6: =ABS(AC6)*(D6-D5)*para!B$8-(AO5-para!B$1)*para!B$5*0.001*para!B$2*(D6-D5) -> 0 | AO6: =AN6/(para!B$6*(0.001*para!B$7))+AO5 -> 300 | AP6: =IF(ABS(AM6)>800,1,0) -> 0
A7: 2201 | B7: NC\slide.ptp | C7: 6 | D7: 135.59572 | E7: 1 | F7: STOP | G7: 20000 | H7: 0 | I7: -1.8333333 | J7: 60.172667 | K7: 66.44 | L7: 0 | M7: 0 | N7: 1 | O7: 35.566667 | P7: -37.227333 | Q7: 0 | R7: 0 | S7: 0 | T7: 0 | U7: 0 | V7: 0 | W7: 0 | X7: 0 | AN7: =ABS(AC7)*(D7-D6)*para!B$8-(AO6-para!B$1)*para!B$5*0.001*para!B$2*(D7-D6) -> 0 | AO7: =AN7/(para!B$6*(0.001*para!B$7))+AO6 -> 300 | AP7: =IF(ABS(AM7)>800,1,0) -> 0
A8: 2202 | B8: NC\slide.ptp | C8: 6 | D8: 135.5987 | E8: 1 | F8: STOP | G8: 20000 | H8: 0 | I8: -0.83822222 | J8: 60.201444 | K8: 66.44 | L8: 0 | M8: 0 | N8: 1 | O8: 36.561778 | P8: -37.198556 | Q8: 0 | R8: 0 | S8: 0 | T8: 0 | U8: 0 | V8: 0 | W8: 0 | X8: 0 | AN8: =ABS(AC8)*(D8-D7)*para!B$8-(AO7-para!B$1)*para!B$5*0.001*para!B$2*(D8-D7) -> 0 | AO8: =AN8/(para!B$6*(0.001*para!B$7))+AO7 -> 300 | AP8: =IF(ABS(AM8)>800,1,0) -> 0
A9: 2203 | B9: NC\slide.ptp | C9: 6 | D9: 135.60169 | E9: 1 | F9: STOP | G9: 20000 | H9: 0 | I9: 0.15688889 | J9: 60.230222 | K9: 66.44 | L9: 0 | M9: 0 | N9: 1 | O9: 37.556889 | P9: -37.169778 | Q9: 0 | R9: 0 | S9: 0 | T9: 0 | U9: 0 | V9: 0 | W9: 0 | X9: 0 | AN9: =ABS(AC9)*(D9-D8)*para!B$8-(AO8-para!B$1)*para!B$5*0.001*para!B$2*(D9-D8) -> 0 | AO9: =AN9/(para!B$6*(0.001*para!B$7))+AO8 -> 300 | AP9: =IF(ABS(AM9)>800,1,0) -> 0
A10: 2204 | B10: NC\slide.ptp | C10: 6 | D10: 135.60468 | E10: 1 | F10: STOP | G10: 20000 | H10: 0 | I10: 1.152 | J10: 60.259 | K10: 66.44 | L10: 0 | M10: 0 | N10: 1 | O10: 38.552 | P10: -37.141 | Q10: 0 | R10: 0 | S10: 0 | T10: 0 | U10: 0 | V10: 0 | W10: 0 | X10: 0 | AN10: =ABS(AC10)*(D10-D9)*para!B$8-(AO9-para!B$1)*para!B$5*0.001*para!B$2*(D10-D9) -> 0 | AO10: =AN10/(para!B$6*(0.001*para!B$7))+AO9 -> 300 | AP10: =IF(ABS(AM10)>800,1,0) -> 0
A11: 2205 | B11: NC\slide.ptp | C11: 6 | D11: 135.60766 | E11: 1 | F11: STOP | G11: 20000 | H11: 0 | I11: 2.1471111 | J11: 60.287778 | K11: 66.44 | L11: 0 | M11: 0 | N11: 1 | O11: 39.547111 | P11: -37.112222 | Q11: 0 | R11: 0 | S11: 0 | T11: 0 | U11: 0 | V11: 0 | W11: 0 | X11: 0 | AN11: =ABS(AC11)*(D11-D10)*para!B$8-(AO10-para!B$1)*para!B$5*0.001*para!B$2*(D11-D10) -> 0 | AO11: =AN11/(para!B$6*(0.001*para!B$7))+AO10 -> 300 | AP11: =IF(ABS(AM11)>800,1,0) -> 0
A12: 2206 | B12: NC\slide.ptp | C12: 6 | D12: 135.61065 | E12: 1 | F12: STOP | G12: 20000 | H12: 0 | I12: 3.1422222 | J12: 60.316556 | K12: 66.44 | L12: 0 | M12: 0 | N12: 1 | O12: 40.542222 | P12: -37.083444 | Q12: 0 | R12: 0 | S12: 0 | T12: 0 | U12: 0 | V12: 0 | W12: 0 | X12: 0 | AN12: =ABS(AC12)*(D12-D11)*para!B$8-(AO11-para!B$1)*para!B$5*0.001*para!B$2*(D12-D11) -> 0 | AO12: =AN12/(para!B$6*(0.001*para!B$7))+AO11 -> 300 | AP12: =IF(ABS(AM12)>800,1,0) -> 0
A13: 2207 | B13: NC\slide.ptp | C13: 6 | D13: 135.61364 | E13: 1 | F13: STOP | G13: 20000 | H13: 0 | I13: 4.1373333 | J13: 60.345333 | K13: 66.44 | L13: 0 | M13: 0 | N13: 1 | O13: 41.537333 | P13: -37.054667 | Q13: 0 | R13: 0 | S13: 0 | T13: 0 | U13: 0 | V13: 0 | W13: 0 | X13: 0 | AN13: =ABS(AC13)*(D13-D12)*para!B$8-(AO12-para!B$1)*para!B$5*0.001*para!B$2*(D13-D12) -> 0 | AO13: =AN13/(para!B$6*(0.001*para!B$7))+AO12 -> 300 | AP13: =IF(ABS(AM13)>800,1,0) -> 0
A14: 2208 | B14: NC\slide.ptp | C14: 6 | D14: 135.61662 | E14: 1 | F14: STOP | G14: 20000 | H14: 0 | I14: 5.1324444 | J14: 60.374111 | K14: 66.44 | L14: 0 | M14: 0 | N14: 1 | O14: 42.532444 | P14: -37.025889 | Q14: 0 | R14: 0 | S14: 0 | T14: 0 | U14: 0 | V14: 0 | W14: 0 | X14: 0 | AN14: =ABS(AC14)*(D14-D13)*para!B$8-(AO13-para!B$1)*para!B$5*0.001*para!B$2*(D14-D13) -> 0 | AO14: =AN14/(para!B$6*(0.001*para!B$7))+AO13 -> 300 | AP14: =IF(ABS(AM14)>800,1,0) -> 0
... A166: 2360 | B166: NC\slide.ptp | C166: 17 | D166: 136.38026 | E166: 1 | F166: CW | G166: 1400 | H166: 5000 | I166: 72.8 | J166: 56.158 | K166: -7.242 | L166: 0 | M166: 0 | N166: 1 | O166: 110.2 | P166: -41.242 | Q166: -73.682 | R166: 0 | S166: 0 | T166: 0 | U166: 0 | V166: 0 | W166: 0 | X166: 0 | AN166: =ABS(AC166)*(D166-D165)*para!B$8-(AO165-para!B$1)*para!B$5*0.001*para!B$2*(D166-D165) -> 0 | AO166: =AN166/(para!B$6*(0.001*para!B$7))+AO165 -> 300 | AP166: =IF(ABS(AM166)>800,1,0) -> 0
A167: 2361 | B167: NC\slide.ptp | C167: 18 | D167: 136.40546 | E167: 1 | F167: CW | G167: 1400 | H167: 5000 | I167: 72.8 | J167: 55.5775 | K167: -7.1485 | L167: 0 | M167: 0 | N167: 1 | O167: 110.2 | P167: -41.8225 | Q167: -73.5885 | R167: 0 | S167: 0 | T167: 1 | U167: 7.3464115 | V167: 99.288141 | W167: 0 | X167: 1 | Y167: 102.30823 | Z167: 157.44325 | AA167: 7.8721623 | AB167: 1256.1224 | AC167: -287.17911 | AD167: 5950.88 | AE167: -23.71653 | AF167: 97.427892 | AG167: -20.305313 | AH167: -97.427892 | AI167: -23.71653 | AJ167: 20.305313 | AK167: 5740.6198 | AL167: 1332.4928 | AM167: 826.26877 | AN167: =ABS(AC167)*(D167-D166)*para!B$8-(AO166-para!B$1)*para!B$5*0.001*para!B$2*(D167-D166) -> 0.36183563 | AO167: =AN167/(para!B$6*(0.001*para!B$7))+AO166 -> 321.53784 | AP167: =IF(ABS(AM167)>800,1,0) -> 1
A168: 2362 | B168: NC\slide.ptp | C168: 18 | D168: 136.43066 | E168: 1 | F168: CW | G168: 1400 | H168: 5000 | I168: 72.8 | J168: 54.997 | K168: -7.055 | L168: 0 | M168: 0 | N168: 1 | O168: 110.2 | P168: -42.403 | Q168: -73.495 | R168: 0 | S168: 0 | T168: 2.7995723 | U168: 7.3464115 | V168: 528.74198 | W168: 0 | X168: 1 | Y168: 227.40082 | Z168: 438.07927 | AA168: 14.686236 | AB168: 2730.7142 | AC168: -642.57947 | AD168: 16275.991 | AE168: -13.901139 | AF168: 222.67954 | AG168: -43.951275 | AH168: -222.67954 | AI168: -13.901139 | AJ168: 43.951275 | AK168: 16045.462 | AL168: 1392.6382 | AM168: 2347.6795 | AN168: =ABS(AC168)*(D168-D167)*para!B$8-(AO167-para!B$1)*para!B$5*0.001*para!B$2*(D168-D167) -> 0.72062051 | AO168: =AN168/(para!B$6*(0.001*para!B$7))+AO167 -> 364.43191 | AP168: =IF(ABS(AM168)>800,1,0) -> 1
A169: 2363 | B169: NC\slide.ptp | C169: 19 | D169: 136.44395 | E169: 1 | F169: CW | G169: 1400 | H169: 5000 | I169: 72.8 | J169: 54.697 | K169: -6.976 | L169: 0 | M169: 0 | N169: 1 | O169: 110.2 | P169: -42.703 | Q169: -73.416 | R169: 0 | S169: 0 | T169: 3 | U169: 7.3233517 | V169: 454.33765 | W169: 0 | X169: 1 | Y169: 271.70108 | Z169: 442.09323 | AA169: 14.116162 | AB169: 3247.7382 | AC169: -770.38708 | AD169: 16188.933 | AE169: -17.08179 | AF169: 265.69961 | AG169: -54.160927 | AH169: -265.69961 | AI169: -17.08179 | AJ169: 54.160927 | AK169: 15959.371 | AL169: 1388.6815 | AM169: 2334.8648 | AN169: =ABS(AC169)*(D169-D168)*para!B$8-(AO168-para!B$1)*para!B$5*0.001*para!B$2*(D169-D168) -> 0.37164753 | AO169: =AN169/(para!B$6*(0.001*para!B$7))+AO168 -> 386.55379 | AP169: =IF(ABS(AM169)>800,1,0) -> 1
A170: 2364 | B170: NC\slide.ptp | C170: 20 | D170: 136.45713 | E170: 1 | F170: CW | G170: 1400 | H170: 5000 | I170: 72.8 | J170: 54.397 | K170: -6.909 | L170: 0 | M170: 0 | N170: 1 | O170: 110.2 | P170: -43.003 | Q170: -73.349 | R170: 0 | S170: 0 | T170: 3.3995723 | U170: 7.2552144 | V170: 352.37409 | W170: 0 | X170: 1 | Y170: 307.12337 | Z170: 554.10573 | AA170: 14.62816 | AB170: 3928.9202 | AC170: -874.2885 | AD170: 20059.459 | AE170: -6.0839718 | AF170: 300.63909 | AG170: -62.481102 | AH170: -300.63909 | AI170: -6.0839718 | AJ170: 62.481102 | AK170: 19833.96 | AL170: 462.51119 | AM170: 2963.4518 | AN170: =ABS(AC170)*(D170-D169)*para!B$8-(AO169-para!B$1)*para!B$5*0.001*para!B$2*(D170-D169) -> 0.38889841 | AO170: =AN170/(para!B$6*(0.001*para!B$7))+AO169 -> 409.7025 | AP170: =IF(ABS(AM170)>800,1,0) -> 1
A171: 2365 | B171: NC\slide.ptp | C171: 21 | D171: 136.48347 | E171: 1 | F171: CW | G171: 1400 | H171: 5000 | I171: 72.8 | J171: 53.797 | K171: -6.776 | L171: 0 | M171: 0 | N171: 1 | O171: 110.2 | P171: -43.603 | Q171: -73.216 | R171: 0 | S171: 0 | T171: 3.9995723 | U171: 7.1762144 | V171: 620.21164 | W171: 0 | X171: 1 | Y171: 358.53407 | Z171: 649.74471 | AA171: 14.342436 | AB171: 4475.1034 | AC171: -1028.1187 | AD171: 22972.636 | AE171: 13.926097 | AF171: 350.82226 | AG171: -72.639417 | AH171: -350.82226 | AI171: 13.926097 | AJ171: 72.639417 | AK171: 22689.908 | AL171: -256.05611 | AM171: 3583.9232 | AN171: =ABS(AC171)*(D171-D170)*para!B$8-(AO170-para!B$1)*para!B$5*0.001*para!B$2*(D171-D170) -> 0.88011929 | AO171: =AN171/(para!B$6*(0.001*para!B$7))+AO170 -> 462.09056 | AP171: =IF(ABS(AM171)>800,1,0) -> 1
A172: 2366 | B172: NC\slide.ptp | C172: 22 | D172: 136.50976 | E172: 1 | F172: CW | G172: 1400 | H172: 5000 | I172: 72.8 | J172: 53.198 | K172: -6.643 | L172: 0 | M172: 0 | N172: 1 | O172: 110.2 | P172: -44.202 | Q172: -73.083 | R172: 0 | S172: 0 | T172: 4.5 | U172: 7 | V172: 906.72829 | W172: 0 | X172: 1 | Y172: 392.88404 | Z172: 649.78969 | AA172: 14.343441 | AB172: 4475.4187 | AC172: -1133.8938 | AD172: 23317.134 | AE172: 32.410852 | AF172: 383.42083 | AG172: -79.346514 | AH172: -383.42083 | AI172: 32.410852 | AJ172: 79.346514 | AK172: 23034.01 | AL172: -765.74401 | AM172: 3540.7219 | AN172: =ABS(AC172)*(D172-D171)*para!B$8-(AO171-para!B$1)*para!B$5*0.001*para!B$2*(D172-D171) -> 0.79187671 | AO172: =AN172/(para!B$6*(0.001*para!B$7))+AO171 -> 509.22608 | AP172: =IF(ABS(AM172)>800,1,0) -> 1
A173: 2367 | B173: NC\slide.ptp | C173: 23 | D173: 136.5361 | E173: 1 | F173: CW | G173: 1400 | H173: 5000 | I173: 72.8 | J173: 52.598 | K173: -6.51 | L173: 0 | M173: 0 | N173: 1 | O173: 110.2 | P173: -44.802 | Q173: -72.95 | R173: 0 | S173: 0 | T173: 4.7576526 | U173: 6.9762144 | V173: 964.20507 | W173: 0 | X173: 1 | Y173: 415.42817 | Z173: 717.82351 | AA173: 14.010959 | AB173: 4838.1218 | AC173: -1205.0389 | AD173: 25598.562 | AE173: 47.010788 | AF173: 404.19504 | AG173: -83.647589 | AH173: -404.19504 | AI173: 47.010788 | AJ173: 83.647589 | AK173: 25203.732 | AL173: -2003.9082 | AM173: 4005.3244 | AN173: =ABS(AC173)*(D173-D172)*para!B$8-(AO172-para!B$1)*para!B$5*0.001*para!B$2*(D173-D172) -> 0.68323707 | AO173: =AN173/(para!B$6*(0.001*para!B$7))+AO172 -> 549.89495 | AP173: =IF(ABS(AM173)>800,1,0) -> 1
A174: 2368 | B174: NC\slide.ptp | C174: 24 | D174: 136.5624 | E174: 1 | F174: CW | G174: 1400 | H174: 5000 | I174: 72.8 | J174: 51.999 | K174: -6.377 | L174: 0 | M174: 0 | N174: 1 | O174: 110.2 | P174: -45.401 | Q174: -72.817 | R174: 0 | S174: 0 | T174: 4.9181542 | U174: 6.8350764 | V174: 953.75343 | W174: 0 | X174: 1 | Y174: 415.5858 | Z174: 619.419 | AA174: 12.586483 | AB174: 4067.942 | AC174: -1208.7346 | AD174: 23118.047 | AE174: 72.625309 | AF174: 400.54272 | AG174: -83.681865 | AH174: -400.54272 | AI174: 72.625309 | AJ174: 83.681865 | AK174: 22845.91 | AL174: -941.33397 | AM174: 3409.1648 | AN174: =ABS(AC174)*(D174-D173)*para!B$8-(AO173-para!B$1)*para!B$5*0.001*para!B$2*(D174-D173) -> 0.5116332 | AO174: =AN174/(para!B$6*(0.001*para!B$7))+AO173 -> 580.34931 | AP174: =IF(ABS(AM174)>800,1,0) -> 1
A175: 2369 | B175: NC\slide.ptp | C175: 25 | D175: 136.58874 | E175: 1 | F175: CW | G175: 1400 | H175: 5000 | I175: 72.8 | J175: 51.399 | K175: -6.244 | L175: 0 | M175: 0 | N175: 1 | O175: 110.2 | P175: -46.001 | Q175: -72.684 | R175: 0 | S175: 0 | T175: 5.0789237 | U175: 6.7102144 | V175: 1014.0333 | W175: 0 | X175: 1 | Y175: 380.28401 | Z175: 693.74854 | AA175: 12.637839 | AB175: 4384.708 | AC175: -1113.3781 | AD175: 25407.318 | AE175: 65.590354 | AF175: 366.93863 | AG175: -75.298582 | AH175: -366.93863 | AI175: 65.590354 | AJ175: 75.298582 | AK175: 25021.783 | AL175: -2132.9338 | AM175: 3859.1103 | AN175: =ABS(AC175)*(D175-D174)*para!B$8-(AO174-para!B$1)*para!B$5*0.001*para!B$2*(D175-D174) -> 0.25532712 | AO175: =AN175/(para!B$6*(0.001*para!B$7))+AO174 -> 595.54735 | AP175: =IF(ABS(AM175)>800,1,0) -> 1
A176: 2370 | B176: NC\slide.ptp | C176: 26 | D176: 136.61506 | E176: 1 | F176: CW | G176: 1400 | H176: 5000 | I176: 72.8 | J176: 50.799 | K176: -6.112 | L176: 0 | M176: 0 | N176: 1 | O176: 110.2 | P176: -46.601 | Q176: -72.552 | R176: 0 | S176: 0 | T176: 5.2396932 | U176: 6.5772144 | V176: 1026.3846 | W176: 0 | X176: 1 | Y176: 390.55208 | Z176: 693.9378 | AA176: 12.588866 | AB176: 4385.8981 | AC176: -1147.6609 | AD176: 25414.441 | AE176: 75.210409 | AF176: 375.27687 | AG176: -77.727668 | AH176: -375.27687 | AI176: 75.210409 | AJ176: 77.727668 | AK176: 25028.643 | AL176: -2135.273 | AM176: 3860.2374 | AN176: =ABS(AC176)*(D176-D175)*para!B$8-(AO175-para!B$1)*para!B$5*0.001*para!B$2*(D176-D175) -> 0.23474843 | AO176: =AN176/(para!B$6*(0.001*para!B$7))+AO175 -> 609.52047 | AP176: =IF(ABS(AM176)>800,1,0) -> 1
A177: 2371 | B177: NC\slide.ptp | C177: 27 | D177: 136.64136 | E177: 1 | F177: CW | G177: 1400 | H177: 5000 | I177: 72.8 | J177: 50.2 | K177: -5.979 | L177: 0 | M177: 0 | N177: 1 | O177: 110.2 | P177: -47.2 | Q177: -72.419 | R177: 0 | S177: 0 | T177: 5.4001123 | U177: 6.4442144 | V177: 1029.4925 | W177: 6 | X177: 1 | Y177: 393.37664 | Z177: 693.9036 | AA177: 12.079919 | AB177: 4385.6831 | AC177: -1156.1857 | AD177: 25413.153 | AE177: 77.856913 | AF177: 377.5725 | AG177: -78.246339 | AH177: -377.5725 | AI177: 77.856913 | AJ177: 78.246339 | AK177: 25027.403 | AL177: -2134.8499 | AM177: 3860.0337 | AN177: =ABS(AC177)*(D177-D176)*para!B$8-(AO176-para!B$1)*para!B$5*0.001*para!B$2*(D177-D176) -> 0.18540939 | AO177: =AN177/(para!B$6*(0.001*para!B$7))+AO176 -> 620.55674 | AP177: =IF(ABS(AM177)>800,1,0) -> 1
A178: 2372 | B178: NC\slide.ptp | C178: 28 | D178: 136.6677 | E178: 1 | F178: CW | G178: 1400 | H178: 5000 | I178: 72.8 | J178: 49.6 | K178: -5.846 | L178: 0 | M178: 0 | N178: 1 | O178: 110.2 | P178: -47.8 | Q178: -72.286 | R178: 0 | S178: 0 | T178: 5.4001123 | U178: 6.3122144 | V178: 1025.5709 | W178: 6 | X178: 1 | Y178: 393.28645 | Z178: 693.74854 | AA178: 12.076632 | AB178: 4384.708 | AC178: -1155.9115 | AD178: 25407.318 | AE178: 77.833219 | AF178: 377.48642 | AG178: -78.231852 | AH178: -377.48642 | AI178: 77.833219 | AJ178: 78.231852 | AK178: 25021.783 | AL178: -2132.9338 | AM178: 3859.1103 | AN178: =ABS(AC178)*(D178-D177)*para!B$8-(AO177-para!B$1)*para!B$5*0.001*para!B$2*(D178-D177) -> 0.13767375 | AO178: =AN178/(para!B$6*(0.001*para!B$7))+AO177 -> 628.75161 | AP178: =IF(ABS(AM178)>800,1,0) -> 1
... A270: 2464 | B270: NC\slide.ptp | C270: 120 | D270: 139.05287 | E270: 1 | F270: CW | G270: 1400 | H270: 5000 | I270: 72.8 | J270: -4.997 | K270: -7.055 | L270: 0 | M270: 0 | N270: 1 | O270: 110.2 | P270: -102.397 | Q270: -73.495 | R270: 0 | S270: 0 | T270: 2.5 | U270: 0.25521443 | V270: 21.297951 | W270: 7 | X270: 1 | Y270: 0 | Z270: 0 | AA270: 0 | AB270: 0 | AC270: 0 | AD270: 0 | AE270: 0 | AF270: 0 | AG270: 0 | AH270: 0 | AI270: 0 | AJ270: 0 | AK270: 0 | AL270: 0 | AM270: 0 | AN270: =ABS(AC270)*(D270-D269)*para!B$8-(AO269-para!B$1)*para!B$5*0.001*para!B$2*(D270-D269) -> -0.073144122 | AO270: =AN270/(para!B$6*(0.001*para!B$7))+AO269 -> 329.19349 | AP270: =IF(ABS(AM270)>800,1,0) -> 0
A271: 2465 | B271: NC\slide.ptp | C271: 121 | D271: 139.08225 | E271: 1 | F271: CW | G271: 1400 | H271: 5000 | I271: 72.12 | J271: -4.997 | K271: -6.968 | L271: 0 | M271: 0 | N271: 1 | O271: 109.52 | P271: -102.397 | Q271: -73.408 | R271: 0 | S271: 0 | T271: 0 | U271: 0 | V271: 0 | W271: 0 | X271: 0 | AN271: =ABS(AC271)*(D271-D270)*para!B$8-(AO270-para!B$1)*para!B$5*0.001*para!B$2*(D271-D270) -> -0.14065836 | AO271: =AN271/(para!B$6*(0.001*para!B$7))+AO270 -> 320.82097 | AP271: =IF(ABS(AM271)>800,1,0) -> 0
A272: 2466 | B272: NC\slide.ptp | C272: 122 | D272: 139.10858 | E272: 1 | F272: CW | G272: 1400 | H272: 5000 | I272: 72.12 | J272: -4.397 | K272: -6.836 | L272: 0 | M272: 0 | N272: 1 | O272: 109.52 | P272: -101.797 | Q272: -73.276 | R272: 0 | S272: 0 | T272: 2 | U272: 0.66821443 | V272: 13.706487 | W272: 0 | X272: 1 | Y272: 9.5185324 | Z272: 114.22239 | AA272: 5.7111194 | AB272: 609.36478 | AC272: -26.484075 | AD272: 4555.6925 | AE272: -8.5150506 | AF272: 4.2526405 | AG272: -0.10686639 | AH272: 4.2526405 | AI272: 8.5150506 | AJ272: 0.10686639 | AK272: 2011.2507 | AL272: 4042.3746 | AM272: 606.97029 | AN272: =ABS(AC272)*(D272-D271)*para!B$8-(AO271-para!B$1)*para!B$5*0.001*para!B$2*(D272-D271) -> -0.055034619 | AO272: =AN272/(para!B$6*(0.001*para!B$7))+AO271 -> 317.5451 | AP272: =IF(ABS(AM272)>800,1,0) -> 0
A273: 2467 | B273: NC\slide.ptp | C273: 123 | D273: 139.13492 | E273: 1 | F273: CW | G273: 1400 | H273: 5000 | I273: 72.12 | J273: -3.797 | K273: -6.703 | L273: 0 | M273: 0 | N273: 1 | O273: 109.52 | P273: -101.197 | Q273: -73.143 | R273: 0 | S273: 0 | T273: 2.5 | U273: 0.65818594 | V273: 53.461791 | W273: 0 | X273: 1 | Y273: 0 | Z273: 0 | AA273: 0 | AB273: 0 | AC273: 0 | AD273: 0 | AE273: 0 | AF273: 0 | AG273: 0 | AH273: 0 | AI273: 0 | AJ273: 0 | AK273: 0 | AL273: 0 | AM273: 0 | AN273: =ABS(AC273)*(D273-D272)*para!B$8-(AO272-para!B$1)*para!B$5*0.001*para!B$2*(D273-D272) -> -0.075781909 | AO273: =AN273/(para!B$6*(0.001*para!B$7))+AO272 -> 313.03427 | AP273: =IF(ABS(AM273)>800,1,0) -> 0
A274: 2468 | B274: NC\slide.ptp | C274: 124 | D274: 139.16122 | E274: 1 | F274: CW | G274: 1400 | H274: 5000 | I274: 72.12 | J274: -3.198 | K274: -6.57 | L274: 0 | M274: 0 | N274: 1 | O274: 109.52 | P274: -100.598 | Q274: -73.01 | R274: 0 | S274: 0 | T274: 3 | U274: 1.0362144 | V274: 67.474154 | W274: 0 | X274: 1 | Y274: 6.5833697 | Z274: 79.000437 | AA274: 3.9500218 | AB274: 417.45074 | AC274: -18.128475 | AD274: 3146.9995 | AE274: -6.5538002 | AF274: 0.62255254 | AG274: 0.029802408 | AH274: 0.62255254 | AI274: 6.5538002 | AJ274: -0.029802408 | AK274: 296.86464 | AL274: 3105.2952 | AM274: 415.47405 | AN274: =ABS(AC274)*(D274-D273)*para!B$8-(AO273-para!B$1)*para!B$5*0.001*para!B$2*(D274-D273) -> -0.032373364 | AO274: =AN274/(para!B$6*(0.001*para!B$7))+AO273 -> 311.10728 | AP274: =IF(ABS(AM274)>800,1,0) -> 0
A275: 2469 | B275: NC\slide.ptp | C275: 125 | D275: 139.18755 | E275: 1 | F275: CW | G275: 1400 | H275: 5000 | I275: 72.12 | J275: -2.598 | K275: -6.437 | L275: 0 | M275: 0 | N275: 1 | O275: 109.52 | P275: -99.998 | Q275: -72.877 | R275: 0 | S275: 0 | T275: 3.4642827 | U275: 1.4032144 | V275: 116.86462 | W275: 0 | X275: 1 | Y275: 38.383185 | Z275: 126.63013 | AA275: 6.3315063 | AB275: 676.94826 | AC275: -109.68407 | AD275: 5051.7126 | AE275: -36.128608 | AF275: 12.960176 | AG275: -0.16244444 | AH275: 12.960176 | AI275: 36.128608 | AJ275: 0.16244444 | AK275: 2989.8847 | AL275: 4015.6708 | AM275: 674.37159 | AN275: =ABS(AC275)*(D275-D274)*para!B$8-(AO274-para!B$1)*para!B$5*0.001*para!B$2*(D275-D274) -> 0.096469859 | AO275: =AN275/(para!B$6*(0.001*para!B$7))+AO274 -> 316.84954 | AP275: =IF(ABS(AM275)>800,1,0) -> 0
A276: 2470 | B276: NC\slide.ptp | C276: 126 | D276: 139.21385 | E276: 1 | F276: CW | G276: 1400 | H276: 5000 | I276: 72.12 | J276: -1.999 | K276: -6.304 | L276: 0 | M276: 0 | N276: 1 | O276: 109.52 | P276: -99.399 | Q276: -72.744 | R276: 0 | S276: 0 | T276: 3.6247843 | U276: 6.7702144 | V276: 157.68884 | W276: 0 | X276: 1 | Y276: 60.353045 | Z276: 170.36378 | AA276: 7.4019184 | AB276: 972.08194 | AC276: -170.81549 | AD276: 6610.1674 | AE276: -59.872121 | AF276: 3.2895533 | AG276: -6.8555095 | AH276: 3.2895533 | AI276: 59.872121 | AJ276: 6.8555095 | AK276: 1639.5418 | AL276: 6334.2303 | AM276: 940.07571 | AN276: =ABS(AC276)*(D276-D275)*para!B$8-(AO275-para!B$1)*para!B$5*0.001*para!B$2*(D276-D275) -> 0.15193123 | AO276: =AN276/(para!B$6*(0.001*para!B$7))+AO275 -> 325.89306 | AP276: =IF(ABS(AM276)>800,1,0) -> 1
A277: 2471 | B277: NC\slide.ptp | C277: 127 | D277: 139.24019 | E277: 1 | F277: CW | G277: 1400 | H277: 5000 | I277: 72.12 | J277: -1.399 | K277: -6.171 | L277: 0 | M277: 0 | N277: 1 | O277: 109.52 | P277: -98.799 | Q277: -72.611 | R277: 0 | S277: 0 | T277: 3.7855538 | U277: 6.6372144 | V277: 182.91366 | W277: 0 | X277: 1 | Y277: 47.917419 | Z277: 189.78474 | AA277: 7.8742988 | AB277: 1031.0584 | AC277: -131.83631 | AD277: 7410.587 | AE277: -47.028534 | AF277: -6.3676861 | AG277: -6.6218283 | AH277: -6.3676861 | AI277: 47.028534 | AJ277: 6.6218283 | AK277: -539.94309 | AL277: 7321.9507 | AM277: 1007.1237 | AN277: =ABS(AC277)*(D277-D276)*para!B$8-(AO276-para!B$1)*para!B$5*0.001*para!B$2*(D277-D276) -> 0.061779134 | AO277: =AN277/(para!B$6*(0.001*para!B$7))+AO276 -> 329.57039 | AP277: =IF(ABS(AM277)>800,1,0) -> 1
A278: 2472 | B278: NC\slide.ptp | C278: 128 | D278: 139.26653 | E278: 1 | F278: CW | G278: 1400 | H278: 5000 | I278: 72.12 | J278: -0.799 | K278: -6.038 | L278: 0 | M278: 0 | N278: 1 | O278: 109.52 | P278: -98.199 | Q278: -72.478 | R278: 0 | S278: 0 | T278: 3.9463233 | U278: 6.5 | V278: 224.40447 | W278: 0 | X278: 1 | Y278: 70.338883 | Z278: 189.80307 | AA278: 7.8745491 | AB278: 1031.1605 | AC278: -193.90845 | AD278: 7411.3145 | AE278: -68.783315 | AF278: -9.4953748 | AG278: -11.236185 | AH278: -9.4953748 | AI278: 68.783315 | AJ278: 11.236185 | AK278: -539.86017 | AL278: 7322.6792 | AM278: 1007.2255 | AN278: =ABS(AC278)*(D278-D277)*para!B$8-(AO277-para!B$1)*para!B$5*0.001*para!B$2*(D278-D277) -> 0.12764007 | AO278: =AN278/(para!B$6*(0.001*para!B$7))+AO277 -> 337.16802 | AP278: =IF(ABS(AM278)>800,1,0) -> 1
A279: 2473 | B279: NC\slide.ptp | C279: 129 | D279: 139.29282 | E279: 1 | F279: CW | G279: 1400 | H279: 5000 | I279: 72.12 | J279: -0.2 | K279: -5.905 | L279: 0 | M279: 0 | N279: 1 | O279: 109.52 | P279: -97.6 | Q279: -72.345 | R279: 0 | S279: 0 | T279: 4.0801123 | U279: 6.3712144 | V279: 270.30453 | W279: 0 | X279: 1 | Y279: 97.195914 | Z279: 201.14154 | AA279: 7.0075613 | AB279: 1241.7972 | AC279: -281.12313 | AD279: 7698.59 | AE279: -96.435498 | AF279: 1.2107536 | AG279: -12.073709 | AH279: 1.2107536 | AI279: 96.435498 | AJ279: 12.073709 | AK279: 1092.7142 | AL279: 7536.8425 | AM279: 1127.0627 | AN279: =ABS(AC279)*(D279-D278)*para!B$8-(AO278-para!B$1)*para!B$5*0.001*para!B$2*(D279-D278) -> 0.20934544 | AO279: =AN279/(para!B$6*(0.001*para!B$7))+AO278 -> 349.62905 | AP279: =IF(ABS(AM279)>800,1,0) -> 1
A280: 2474 | B280: NC\slide.ptp | C280: 130 | D280: 139.31916 | E280: 1 | F280: CW | G280: 1400 | H280: 5000 | I280: 72.12 | J280: 0.4 | K280: -5.772 | L280: 0 | M280: 0 | N280: 1 | O280: 109.52 | P280: -97 | Q280: -72.212 | R280: 0 | S280: 0 | T280: 4.0801123 | U280: 6.2382144 | V280: 282.32203 | W280: 6 | X280: 1 | Y280: 66.741855 | Z280: 189.78474 | AA280: 6.9465774 | AB280: 1031.0584 | AC280: -183.4671 | AD280: 7410.587 | AE280: -64.855463 | AF280: -11.925689 | AG280: -10.296699 | AH280: -11.925689 | AI280: 64.855463 | AJ280: 10.296699 | AK280: -539.94309 | AL280: 7321.9507 | AM280: 1007.1237 | AN280: =ABS(AC280)*(D280-D279)*para!B$8-(AO279-para!B$1)*para!B$5*0.001*para!B$2*(D280-D279) -> 0.027250504 | AO280: =AN280/(para!B$6*(0.001*para!B$7))+AO279 -> 351.25111 | AP280: =IF(ABS(AM280)>800,1,0) -> 1
A281: 2475 | B281: NC\slide.ptp | C281: 131 | D281: 139.34546 | E281: 1 | F281: CW | G281: 1400 | H281: 5000 | I281: 72.12 | J281: 0.999 | K281: -5.639 | L281: 0 | M281: 0 | N281: 1 | O281: 109.52 | P281: -96.401 | Q281: -72.079 | R281: 0 | S281: 0 | T281: 4.0801123 | U281: 6 | V281: 235.36256 | W281: 0 | X281: 1 | Y281: 60.201221 | Z281: 189.78474 | AA281: 6.9465774 | AB281: 1031.0584 | AC281: -165.03061 | AD281: 7410.587 | AE281: -58.31177 | AF281: -12.04245 | AG281: -8.8827821 | AH281: -12.04245 | AI281: 58.31177 | AJ281: 8.8827821 | AK281: -539.94309 | AL281: 7321.9507 | AM281: 1007.1237 | AN281: =ABS(AC281)*(D281-D280)*para!B$8-(AO280-para!B$1)*para!B$5*0.001*para!B$2*(D281-D280) -> -0.0040285704 | AO281: =AN281/(para!B$6*(0.001*para!B$7))+AO280 -> 351.01131 | AP281: =IF(ABS(AM281)>800,1,0) -> 1
A282: 2476 | B282: NC\slide.ptp | C282: 132 | D282: 139.3718 | E282: 1 | F282: CW | G282: 1400 | H282: 5000 | I282: 72.12 | J282: 1.599 | K282: -5.506 | L282: 0 | M282: 0 | N282: 1 | O282: 109.52 | P282: -95.801 | Q282: -71.946 | R282: 0 | S282: 0 | T282: 4.0801123 | U282: 5.9722144 | V282: 255.70098 | W282: 6 | X282: 1 | Y282: 67.469094 | Z282: 198.2097 | AA282: 6.9465774 | AB282: 1118.8626 | AC282: -187.67059 | AD282: 7652.4074 | AE282: -66.157859 | AF282: -9.7738987 | AG282: -8.9267724 | AH282: -9.7738987 | AI282: 66.157859 | AJ282: 8.9267724 | AK282: 189.16814 | AL282: 7574.1166 | AM282: 1075.3202 | AN282: =ABS(AC282)*(D282-D281)*para!B$8-(AO281-para!B$1)*para!B$5*0.001*para!B$2*(D282-D281) -> 0.026815829 | AO282: =AN282/(para!B$6*(0.001*para!B$7))+AO281 -> 352.60749 | AP282: =IF(ABS(AM282)>800,1,0) -> 1
A283: 2477 | B283: NC\slide.ptp | C283: 133 | D283: 139.39809 | E283: 1 | F283: CW | G283: 1400 | H283: 5000 | I283: 72.12 | J283: 2.198 | K283: -5.373 | L283: 0 | M283: 0 | N283: 1 | O283: 109.52 | P283: -95.202 | Q283: -71.813 | R283: 0 | S283: 0 | T283: 4.0801123 | U283: 5.8392144 | V283: 268.75941 | W283: 0 | X283: 1 | Y283: 97.195914 | Z283: 201.14154 | AA283: 7.0075613 | AB283: 1241.7972 | AC283: -281.12313 | AD283: 7698.59 | AE283: -96.435498 | AF283: 1.2107536 | AG283: -12.073709 | AH283: 1.2107536 | AI283: 96.435498 | AJ283: 12.073709 | AK283: 1092.7142 | AL283: 7536.8425 | AM283: 1127.0627 | AN283: =ABS(AC283)*(D283-D282)*para!B$8-(AO282-para!B$1)*para!B$5*0.001*para!B$2*(D283-D282) -> 0.1427641 | AO283: =AN283/(para!B$6*(0.001*para!B$7))+AO282 -> 361.10535 | AP283: =IF(ABS(AM283)>800,1,0) -> 1
... A1129: 3323 | B1129: NC\slide.ptp | C1129: 702 | D1129: 165.60031 | E1129: 1 | F1129: CW | G1129: 1400 | H1129: 5000 | I1129: 66 | J1129: -6.165 | K1129: -7.017 | L1129: 0 | M1129: 0 | N1129: 1 | O1129: 103.4 | P1129: -103.565 | Q1129: -73.457 | R1129: 0 | S1129: 0 | T1129: 2.5 | U1129: 0.16664184 | V1129: 19.511303 | W1129: 0 | X1129: 1 | Y1129: 0 | Z1129: 0 | AA1129: 0 | AB1129: 0 | AC1129: 0 | AD1129: 0 | AE1129: 0 | AF1129: 0 | AG1129: 0 | AH1129: 0 | AI1129: 0 | AJ1129: 0 | AK1129: 0 | AL1129: 0 | AM1129: 0 | AN1129: =ABS(AC1129)*(D1129-D1128)*para!B$8-(AO1128-para!B$1)*para!B$5*0.001*para!B$2*(D1129-D1128) -> -0.0099503461 | AO1129: =AN1129/(para!B$6*(0.001*para!B$7))+AO1128 -> 301.81452 | AP1129: =IF(ABS(AM1129)>800,1,0) -> 0
A1130: 3324 | B1130: NC\slide.ptp | C1130: 703 | D1130: 165.6255 | E1130: 1 | F1130: CW | G1130: 1400 | H1130: 5000 | I1130: 66 | J1130: -6.751 | K1130: -6.972 | L1130: 0 | M1130: 0 | N1130: 1 | O1130: 103.4 | P1130: -104.151 | Q1130: -73.412 | R1130: 0 | S1130: 0 | T1130: 0 | U1130: 0 | V1130: 0 | W1130: 0 | X1130: 0 | AN1130: =ABS(AC1130)*(D1130-D1129)*para!B$8-(AO1129-para!B$1)*para!B$5*0.001*para!B$2*(D1130-D1129) -> -0.0074951167 | AO1130: =AN1130/(para!B$6*(0.001*para!B$7))+AO1129 -> 301.36838 | AP1130: =IF(ABS(AM1130)>800,1,0) -> 0
A1131: 3325 | B1131: NC\slide.ptp | C1131: 703 | D1131: 165.65069 | E1131: 1 | F1131: CW | G1131: 1400 | H1131: 5000 | I1131: 66 | J1131: -7.337 | K1131: -6.927 | L1131: 0 | M1131: 0 | N1131: 1 | O1131: 103.4 | P1131: -104.737 | Q1131: -73.367 | R1131: 0 | S1131: 0 | T1131: 0 | U1131: 0 | V1131: 0 | W1131: 0 | X1131: 0 | AN1131: =ABS(AC1131)*(D1131-D1130)*para!B$8-(AO1130-para!B$1)*para!B$5*0.001*para!B$2*(D1131-D1130) -> -0.0056522809 | AO1131: =AN1131/(para!B$6*(0.001*para!B$7))+AO1130 -> 301.03193 | AP1131: =IF(ABS(AM1131)>800,1,0) -> 0
A1132: 3326 | B1132: NC\slide.ptp | C1132: 704 | D1132: 165.67589 | E1132: 1 | F1132: CW | G1132: 1400 | H1132: 5000 | I1132: 66 | J1132: -7.9035 | K1132: -6.769 | L1132: 0 | M1132: 0 | N1132: 1 | O1132: 103.4 | P1132: -105.3035 | Q1132: -73.209 | R1132: 0 | S1132: 0 | T1132: 0 | U1132: 0 | V1132: 0 | W1132: 0 | X1132: 0 | AN1132: =ABS(AC1132)*(D1132-D1131)*para!B$8-(AO1131-para!B$1)*para!B$5*0.001*para!B$2*(D1132-D1131) -> -0.0042654229 | AO1132: =AN1132/(para!B$6*(0.001*para!B$7))+AO1131 -> 300.77804 | AP1132: =IF(ABS(AM1132)>800,1,0) -> 0
A1133: 3327 | B1133: NC\slide.ptp | C1133: 704 | D1133: 165.7011 | E1133: 1 | F1133: CW | G1133: 1400 | H1133: 5000 | I1133: 66 | J1133: -8.47 | K1133: -6.611 | L1133: 0 | M1133: 0 | N1133: 1 | O1133: 103.4 | P1133: -105.87 | Q1133: -73.051 | R1133: 0 | S1133: 0 | T1133: 0 | U1133: 0 | V1133: 0 | W1133: 0 | X1133: 0 | AN1133: =ABS(AC1133)*(D1133-D1132)*para!B$8-(AO1132-para!B$1)*para!B$5*0.001*para!B$2*(D1133-D1132) -> -0.0032159691 | AO1133: =AN1133/(para!B$6*(0.001*para!B$7))+AO1132 -> 300.58661 | AP1133: =IF(ABS(AM1133)>800,1,0) -> 0
A1134: 3328 | B1134: NC\slide.ptp | C1134: 705 | D1134: 165.7263 | E1134: 1 | F1134: CW | G1134: 1400 | H1134: 5000 | I1134: 66 | J1134: -8.9945 | K1134: -6.345 | L1134: 0 | M1134: 0 | N1134: 1 | O1134: 103.4 | P1134: -106.3945 | Q1134: -72.785 | R1134: 0 | S1134: 0 | T1134: 0 | U1134: 0 | V1134: 0 | W1134: 0 | X1134: 0 | AN1134: =ABS(AC1134)*(D1134-D1133)*para!B$8-(AO1133-para!B$1)*para!B$5*0.001*para!B$2*(D1134-D1133) -> -0.0024246144 | AO1134: =AN1134/(para!B$6*(0.001*para!B$7))+AO1133 -> 300.44229 | AP1134: =IF(ABS(AM1134)>800,1,0) -> 0
A1135: 3329 | B1135: NC\slide.ptp | C1135: 705 | D1135: 165.75151 | E1135: 1 | F1135: CW | G1135: 1400 | H1135: 5000 | I1135: 66 | J1135: -9.519 | K1135: -6.079 | L1135: 0 | M1135: 0 | N1135: 1 | O1135: 103.4 | P1135: -106.919 | Q1135: -72.519 | R1135: 0 | S1135: 0 | T1135: 0 | U1135: 0 | V1135: 0 | W1135: 0 | X1135: 0 | AN1135: =ABS(AC1135)*(D1135-D1134)*para!B$8-(AO1134-para!B$1)*para!B$5*0.001*para!B$2*(D1135-D1134) -> -0.0018280944 | AO1135: =AN1135/(para!B$6*(0.001*para!B$7))+AO1134 -> 300.33347 | AP1135: =IF(ABS(AM1135)>800,1,0) -> 0
A1136: 3330 | B1136: NC\slide.ptp | C1136: 706 | D1136: 165.77672 | E1136: 1 | F1136: CW | G1136: 1400 | H1136: 5000 | I1136: 66 | J1136: -9.982 | K1136: -5.716 | L1136: 0 | M1136: 0 | N1136: 1 | O1136: 103.4 | P1136: -107.382 | Q1136: -72.156 | R1136: 0 | S1136: 0 | T1136: 0 | U1136: 0 | V1136: 0 | W1136: 0 | X1136: 0 | AN1136: =ABS(AC1136)*(D1136-D1135)*para!B$8-(AO1135-para!B$1)*para!B$5*0.001*para!B$2*(D1136-D1135) -> -0.0013788922 | AO1136: =AN1136/(para!B$6*(0.001*para!B$7))+AO1135 -> 300.2514 | AP1136: =IF(ABS(AM1136)>800,1,0) -> 0
A1137: 3331 | B1137: NC\slide.ptp | C1137: 706 | D1137: 165.80194 | E1137: 1 | F1137: CW | G1137: 1400 | H1137: 5000 | I1137: 66 | J1137: -10.445 | K1137: -5.353 | L1137: 0 | M1137: 0 | N1137: 1 | O1137: 103.4 | P1137: -107.845 | Q1137: -71.793 | R1137: 0 | S1137: 0 | T1137: 0 | U1137: 0 | V1137: 0 | W1137: 0 | X1137: 0 | AN1137: =ABS(AC1137)*(D1137-D1136)*para!B$8-(AO1136-para!B$1)*para!B$5*0.001*para!B$2*(D1137-D1136) -> -0.0010395147 | AO1137: =AN1137/(para!B$6*(0.001*para!B$7))+AO1136 -> 300.18952 | AP1137: =IF(ABS(AM1137)>800,1,0) -> 0
A1138: 3332 | B1138: NC\slide.ptp | C1138: 707 | D1138: 165.82713 | E1138: 1 | F1138: CW | G1138: 1400 | H1138: 5000 | I1138: 66 | J1138: -10.8275 | K1138: -4.9065 | L1138: 0 | M1138: 0 | N1138: 1 | O1138: 103.4 | P1138: -108.2275 | Q1138: -71.3465 | R1138: 0 | S1138: 0 | T1138: 0 | U1138: 0 | V1138: 0 | W1138: 0 | X1138: 0 | AN1138: =ABS(AC1138)*(D1138-D1137)*para!B$8-(AO1137-para!B$1)*para!B$5*0.001*para!B$2*(D1138-D1137) -> -0.00078312718 | AO1138: =AN1138/(para!B$6*(0.001*para!B$7))+AO1137 -> 300.14291 | AP1138: =IF(ABS(AM1138)>800,1,0) -> 0
A1139: 3333 | B1139: NC\slide.ptp | C1139: 707 | D1139: 165.85233 | E1139: 1 | F1139: CW | G1139: 1400 | H1139: 5000 | I1139: 66 | J1139: -11.21 | K1139: -4.46 | L1139: 0 | M1139: 0 | N1139: 1 | O1139: 103.4 | P1139: -108.61 | Q1139: -70.9 | R1139: 0 | S1139: 0 | T1139: 0 | U1139: 0 | V1139: 0 | W1139: 0 | X1139: 0 | AN1139: =ABS(AC1139)*(D1139-D1138)*para!B$8-(AO1138-para!B$1)*para!B$5*0.001*para!B$2*(D1139-D1138) -> -0.00059051206 | AO1139: =AN1139/(para!B$6*(0.001*para!B$7))+AO1138 -> 300.10776 | AP1139: =IF(ABS(AM1139)>800,1,0) -> 0
A1140: 3334 | B1140: NC\slide.ptp | C1140: 708 | D1140: 165.87754 | E1140: 1 | F1140: CW | G1140: 1400 | H1140: 5000 | I1140: 66 | J1140: -11.4985 | K1140: -3.9475 | L1140: 0 | M1140: 0 | N1140: 1 | O1140: 103.4 | P1140: -108.8985 | Q1140: -70.3875 | R1140: 0 | S1140: 0 | T1140: 0 | U1140: 0 | V1140: 0 | W1140: 0 | X1140: 0 | AN1140: =ABS(AC1140)*(D1140-D1139)*para!B$8-(AO1139-para!B$1)*para!B$5*0.001*para!B$2*(D1140-D1139) -> -0.00044541088 | AO1140: =AN1140/(para!B$6*(0.001*para!B$7))+AO1139 -> 300.08125 | AP1140: =IF(ABS(AM1140)>800,1,0) -> 0
A1141: 3335 | B1141: NC\slide.ptp | C1141: 708 | D1141: 165.90274 | E1141: 1 | F1141: CW | G1141: 1400 | H1141: 5000 | I1141: 66 | J1141: -11.787 | K1141: -3.435 | L1141: 0 | M1141: 0 | N1141: 1 | O1141: 103.4 | P1141: -109.187 | Q1141: -69.875 | R1141: 0 | S1141: 0 | T1141: 0 | U1141: 0 | V1141: 0 | W1141: 0 | X1141: 0 | AN1141: =ABS(AC1141)*(D1141-D1140)*para!B$8-(AO1140-para!B$1)*para!B$5*0.001*para!B$2*(D1141-D1140) -> -0.00033582135 | AO1141: =AN1141/(para!B$6*(0.001*para!B$7))+AO1140 -> 300.06126 | AP1141: =IF(ABS(AM1141)>800,1,0) -> 0
... A1213: 3407 | B1213: NC\slide.ptp | C1213: 713 | D1213: 166.15943 | E1213: 1 | F1213: STOP | G1213: 20000 | H1213: 0 | I1213: 66 | J1213: -12.153 | K1213: 66.44 | L1213: 0 | M1213: 0 | N1213: 1 | O1213: 103.4 | P1213: -109.553 | Q1213: 0 | R1213: 0 | S1213: 0 | T1213: 0 | U1213: 0 | V1213: 0 | W1213: 0 | X1213: 0 | AN1213: =ABS(AC1213)*(D1213-D1212)*para!B$8-(AO1212-para!B$1)*para!B$5*0.001*para!B$2*(D1213-D1212) -> -2.2644771e-06 | AO1213: =AN1213/(para!B$6*(0.001*para!B$7))+AO1212 -> 300.00451 | AP1213: =IF(ABS(AM1213)>800,1,0) -> 0

Sheet para
A1: normal temperature (K) | B1: 300
A2: heat transfer coefficient (W/mK) | B2: 58 | C2: (WC, 28~88)
A3: cutter D (mm) | B3: 12
A4: cutter H (mm) | B4: 40
A5: cutter intersected area/height (mm) | B5: 2.8274334
A6: heat capacity (J/kgK) | B6: 240 | C6: (WC, 184~292)
A7: local cutter weight (g) | B7: 0.07 | C7: (full cutter weight is 7)
A8: heat conduct ratio from cutter to total | B8: 0.05
